BEGIN:VCALENDAR
VERSION:2.0
PRODID:spatie/icalendar-generator
DESCRIPTION:Veranstaltungen von Waldalgesheim
X-WR-CALDESC:Veranstaltungen von Waldalgesheim
REFRESH-INTERVAL;VALUE=DURATION:PT1440M
X-PUBLISHED-TTL:PT1440M
BEGIN:VTIMEZONE
TZID:Etc/GMT+0
BEGIN:STANDARD
DTSTART:20230812T000000Z
TZOFFSETFROM:+0000
TZOFFSETTO:+0000
END:STANDARD
END:VTIMEZONE
BEGIN:VTIMEZONE
TZID:UTC
BEGIN:STANDARD
DTSTART:20250725T084438Z
TZOFFSETFROM:+0000
TZOFFSETTO:+0000
END:STANDARD
END:VTIMEZONE
BEGIN:VEVENT
UID:97-89
DTSTAMP:20260421T084438Z
SUMMARY:Frauenkreis
LOCATION:Evangelisches Gemeindehaus
ORGANIZER;CN=HS@ogw-2023:MAILTO:verwaltung@waldalgesheim.de
DTSTART;TZID=Etc/GMT+0:20240508T000000
DTEND;TZID=Etc/GMT+0:20240508T010000
X-ALT-DESC;FMTTYPE=TEXT/HTML:
CATEGORIES:Veranstaltung
URL;VALUE=URI:https://waldalgesheim.de/mc-events/frauenkreis-6/
METHOD:PUBLISH
END:VEVENT
END:VCALENDAR