BEGIN:VCALENDAR
VERSION:2.0
PRODID:spatie/icalendar-generator
DESCRIPTION:Veranstaltungen von Waldalgesheim
X-WR-CALDESC:Veranstaltungen von Waldalgesheim
REFRESH-INTERVAL;VALUE=DURATION:PT1440M
X-PUBLISHED-TTL:PT1440M
BEGIN:VTIMEZONE
TZID:Etc/GMT+0
BEGIN:STANDARD
DTSTART:20250802T190000Z
TZOFFSETFROM:+0000
TZOFFSETTO:+0000
END:STANDARD
END:VTIMEZONE
BEGIN:VTIMEZONE
TZID:UTC
BEGIN:STANDARD
DTSTART:20250727T210103Z
TZOFFSETFROM:+0000
TZOFFSETTO:+0000
END:STANDARD
END:VTIMEZONE
BEGIN:VEVENT
UID:461-415
DTSTAMP:20260423T210103Z
SUMMARY:Zukunftswerkstatt\, Workshop\, Grünflächen\, Klima\, Umwelt
LOCATION:Rathaus Kreuzstr. 2  Waldalgesheim  55425
ORGANIZER;CN=HS@ogw-2023:MAILTO:verwaltung@waldalgesheim.de
DTSTART;TZID=Etc/GMT+0:20260429T190000
DTEND;TZID=Etc/GMT+0:20260429T200000
X-ALT-DESC;FMTTYPE=TEXT/HTML:
CATEGORIES:Gemeinde
URL;VALUE=URI:https://waldalgesheim.de/mc-events/zukunftswerkstatt-workshop
 -gruenflaechen-klima-umwelt-2/
METHOD:PUBLISH
END:VEVENT
END:VCALENDAR