BEGIN:VCALENDAR
VERSION:2.0
PRODID:spatie/icalendar-generator
DESCRIPTION:Veranstaltungen von Waldalgesheim
X-WR-CALDESC:Veranstaltungen von Waldalgesheim
REFRESH-INTERVAL;VALUE=DURATION:PT1440M
X-PUBLISHED-TTL:PT1440M
BEGIN:VTIMEZONE
TZID:Etc/GMT+0
BEGIN:STANDARD
DTSTART:20250803T000000Z
TZOFFSETFROM:+0000
TZOFFSETTO:+0000
END:STANDARD
END:VTIMEZONE
BEGIN:VTIMEZONE
TZID:UTC
BEGIN:STANDARD
DTSTART:20250723T170933Z
TZOFFSETFROM:+0000
TZOFFSETTO:+0000
END:STANDARD
END:VTIMEZONE
BEGIN:VEVENT
UID:378-336
DTSTAMP:20260419T170933Z
SUMMARY:Maibaumstellen in Waldalgesheim
LOCATION:Gemeindepark an der Keltenhalle
ORGANIZER;CN=HS@ogw-2023:MAILTO:verwaltung@waldalgesheim.de
DTSTART;TZID=Etc/GMT+0;VALUE=DATE:20260430
DTEND;TZID=Etc/GMT+0;VALUE=DATE:20260501
X-ALT-DESC;FMTTYPE=TEXT/HTML:
CATEGORIES:Veranstaltung
URL;VALUE=URI:https://waldalgesheim.de/mc-events/maibaumstellen-in-waldalge
 sheim-2/
METHOD:PUBLISH
END:VEVENT
END:VCALENDAR