BEGIN:VCALENDAR
VERSION:2.0
PRODID:spatie/icalendar-generator
DESCRIPTION:Veranstaltungen von Waldalgesheim
X-WR-CALDESC:Veranstaltungen von Waldalgesheim
REFRESH-INTERVAL;VALUE=DURATION:PT1440M
X-PUBLISHED-TTL:PT1440M
BEGIN:VTIMEZONE
TZID:Etc/GMT+0
BEGIN:STANDARD
DTSTART:20250721T000000Z
TZOFFSETFROM:+0000
TZOFFSETTO:+0000
END:STANDARD
END:VTIMEZONE
BEGIN:VTIMEZONE
TZID:UTC
BEGIN:STANDARD
DTSTART:20250725T131034Z
TZOFFSETFROM:+0000
TZOFFSETTO:+0000
END:STANDARD
END:VTIMEZONE
BEGIN:VEVENT
UID:373-331
DTSTAMP:20260421T131034Z
SUMMARY:SVA\, Jahresversammlung
LOCATION:Sportlerheim
ORGANIZER;CN=HS@ogw-2023:MAILTO:verwaltung@waldalgesheim.de
DTSTART;TZID=Etc/GMT+0;VALUE=DATE:20260417
DTEND;TZID=Etc/GMT+0;VALUE=DATE:20260418
X-ALT-DESC;FMTTYPE=TEXT/HTML:
CATEGORIES:Veranstaltung
URL;VALUE=URI:https://waldalgesheim.de/mc-events/sva-jahresversammlung/
METHOD:PUBLISH
END:VEVENT
END:VCALENDAR